BEGIN:VCALENDAR
VERSION:2.0
PRODID:-//104.152.168.27//NONSGML kigkonsult.se iCalcreator 2.20//
CALSCALE:GREGORIAN
METHOD:PUBLISH
X-WR-TIMEZONE:Asia/Tokyo
BEGIN:VEVENT
UID:event370@Tokyo Gig Guide
DTSTAMP:20260422T194748Z
CATEGORIES:Alternative
DESCRIPTION:inola\nカテゴリ: Alternative\nリンク: https://www.tokyogigguide.com/in
 dex.php?option=com_jem&view=event&id=370:inola&Itemid=1094\n
DTSTART:20081202T190000
DTEND:20081202T190000
LOCATION:Showboat\,Oak Hill Koenji B1F\, 3-17-2 Koenji Kita\,Koenji
SUMMARY:inola
URL:https://www.tokyogigguide.com/index.php?option=com_jem&view=event&id=37
 0:inola&Itemid=1094
END:VEVENT
END:VCALENDAR
