BEGIN:VCALENDAR
VERSION:2.0
PRODID:-//104.152.168.27//NONSGML kigkonsult.se iCalcreator 2.20//
CALSCALE:GREGORIAN
METHOD:PUBLISH
X-WR-TIMEZONE:Asia/Tokyo
BEGIN:VEVENT
UID:event36936@Tokyo Gig Guide
DTSTAMP:20260425T035718Z
CATEGORIES:Hardcore\, Noise\, Pop-punk\, Punk\, Rock n Roll
DESCRIPTION:トゥインクループ (TWINKLOOP)\, DEEPFREEZEMANIA\, Vakvak Samandal (松谷健 (
 Ken Matsutani) x SACHIKO)\, CosmoDragoonNo8\nカテゴリ: Hardcore\, Noise\, Pop-
 punk\, Punk\, Rock n Roll\nリンク: https://www.tokyogigguide.com/index.php?op
 tion=com_jem&view=event&id=36936:twinkloop-deepfreezemania-and-1-more-arti
 st&Itemid=1094\n
DTSTART:20251030T190000
DTEND:20251030T190000
LOCATION:Pit Bar\,3-14-10 B1F Nishiogi Minami\, Suginami-ku\,Nishi-Ogikubo
SUMMARY:トゥインクループ (TWINKLOOP)\, DEEPFREEZEMANIA\, Vakvak Samandal (松谷健 (Ken 
 Matsutani) x SACHIKO)\, CosmoDragoonNo8
URL:https://www.tokyogigguide.com/index.php?option=com_jem&view=event&id=36
 936:twinkloop-deepfreezemania-and-1-more-artist&Itemid=1094
END:VEVENT
END:VCALENDAR
