BEGIN:VCALENDAR
VERSION:2.0
PRODID:-//104.152.168.27//NONSGML kigkonsult.se iCalcreator 2.20//
CALSCALE:GREGORIAN
METHOD:PUBLISH
X-WR-TIMEZONE:Asia/Tokyo
BEGIN:VEVENT
UID:event36831@Tokyo Gig Guide
DTSTAMP:20260426T012745Z
CATEGORIES:Acoustic\, Funk\, Jazz\, Latin
DESCRIPTION:Super jazz strings\nカテゴリ: Acoustic\, Funk\, Jazz\, Latin\nリンク: 
 https://www.tokyogigguide.com/index.php?option=com_jem&view=event&id=36831
 :super-jazz-strings&Itemid=1094\n
DTSTART:20251021T190000
DTEND:20251021T190000
LOCATION:ZIMAGINE\,6-2-13-B1 Minami-Aoyama\, Minato-ku\, Tokyo\,Omotesando
SUMMARY:Super jazz strings
URL:https://www.tokyogigguide.com/index.php?option=com_jem&view=event&id=36
 831:super-jazz-strings&Itemid=1094
END:VEVENT
END:VCALENDAR
