BEGIN:VCALENDAR
VERSION:2.0
PRODID:-//104.152.168.27//NONSGML kigkonsult.se iCalcreator 2.20//
CALSCALE:GREGORIAN
METHOD:PUBLISH
X-WR-TIMEZONE:Asia/Tokyo
BEGIN:VEVENT
UID:event36706@Tokyo Gig Guide
DTSTAMP:20260420T181914Z
CATEGORIES:Improvised
DESCRIPTION:Yung Tsu (楊策) with Band\, Hano Shoji\, Tabata Mitsuru\nカテゴリ: Im
 provised\nリンク: https://www.tokyogigguide.com/index.php?option=com_jem&view
 =event&id=36706:yung-tsu-withband-hano-shoji-tabata-mituru&Itemid=1094\n
DTSTART:20250806T183000
DTEND:20250806T183000
LOCATION:Dolphy\,2-17-4-2F Miyagawa-cho\, Naka-ku\, Yokohama\,Yokohama
SUMMARY:Yung Tsu (楊策) with Band\, Hano Shoji\, Tabata Mitsuru
URL:https://www.tokyogigguide.com/index.php?option=com_jem&view=event&id=36
 706:yung-tsu-withband-hano-shoji-tabata-mituru&Itemid=1094
END:VEVENT
END:VCALENDAR
