BEGIN:VCALENDAR
VERSION:2.0
PRODID:-//104.152.168.27//NONSGML kigkonsult.se iCalcreator 2.20//
CALSCALE:GREGORIAN
METHOD:PUBLISH
X-WR-TIMEZONE:Asia/Tokyo
BEGIN:VEVENT
UID:event36546@Tokyo Gig Guide
DTSTAMP:20260423T175909Z
CATEGORIES:Improvised\, Experimental
DESCRIPTION:Sylvain Monchocé + Daniel Studer + Yasumune Morishige\nカテゴリ: Im
 provised\, Experimental\nリンク: https://www.tokyogigguide.com/index.php?opti
 on=com_jem&view=event&id=36546:sylvain-monchoce-daniel-studer-yasumune-mor
 ishige&Itemid=1094\n
DTSTART:20260424T190000
DTEND:20260424T190000
LOCATION:hako gallery\,Nishihara 3-1-4\, Shibuya-ku\, Tokyo\,Yoyogi-Uehara
SUMMARY:Sylvain Monchocé + Daniel Studer + Yasumune Morishige
URL:https://www.tokyogigguide.com/index.php?option=com_jem&view=event&id=36
 546:sylvain-monchoce-daniel-studer-yasumune-morishige&Itemid=1094
END:VEVENT
END:VCALENDAR
