BEGIN:VCALENDAR
VERSION:2.0
PRODID:-//104.152.168.27//NONSGML kigkonsult.se iCalcreator 2.20//
CALSCALE:GREGORIAN
METHOD:PUBLISH
X-WR-TIMEZONE:Asia/Tokyo
BEGIN:VEVENT
UID:event35849@Tokyo Gig Guide
DTSTAMP:20260420T121118Z
CATEGORIES:Avant garde\, Dance\, Experimental\, Free Jazz\, Improvised
DESCRIPTION:Otzir Godot\, Junji Mori\, Naoyasu Takahashi\, Utako Arai\, Chi
 e Murai\nカテゴリ: Avant garde\, Dance\, Experimental\, Free Jazz\, Improvised
 \nリンク: https://www.tokyogigguide.com/index.php?option=com_jem&view=event&i
 d=35849:otzir-godot-junji-mori-naoyasu-takahashi-utako-arai-chie-murai&Ite
 mid=1094\n
DTSTART:20250614T183000
DTEND:20250614T183000
LOCATION:Flying Teapot\,Enomoto Bldg B1F\, 27-7 Sakae-cho\, Nerima-ku\,Ekod
 a
SUMMARY:Otzir Godot\, Junji Mori\, Naoyasu Takahashi\, Utako Arai\, Chie Mu
 rai
URL:https://www.tokyogigguide.com/index.php?option=com_jem&view=event&id=35
 849:otzir-godot-junji-mori-naoyasu-takahashi-utako-arai-chie-murai&Itemid=
 1094
END:VEVENT
END:VCALENDAR
