BEGIN:VCALENDAR
VERSION:2.0
PRODID:-//104.152.168.27//NONSGML kigkonsult.se iCalcreator 2.20//
CALSCALE:GREGORIAN
METHOD:PUBLISH
X-WR-TIMEZONE:Asia/Tokyo
BEGIN:VEVENT
UID:event35594@Tokyo Gig Guide
DTSTAMP:20260426T010514Z
CATEGORIES:Industrial\, Metal\, Post-Punk\, Synth-pop
DESCRIPTION:ラパンナジール (LAPIN AGILE)\, POISON D'HERMÈS\, CAVALERIE CRUXX\, 96†
 \, CURRYBOYS FROM HELL\, †Ange la Terre†\nカテゴリ: Industrial\, Metal\, Post-
 Punk\, Synth-pop\nリンク: https://www.tokyogigguide.com/index.php?option=com_
 jem&view=event&id=35594:lapin-agile-poison-d-hermes-cavalerie-cruxx-96-cur
 ryboys-from-hell-ange-la-terre&Itemid=1094\n
DTSTART:20250628T163000
DTEND:20250628T163000
LOCATION:Chop (Shutou)\,Sheema100 B1\, 2-46-3 Ikebukuro\,Ikebukuro
SUMMARY:ラパンナジール (LAPIN AGILE)\, POISON D'HERMÈS\, CAVALERIE CRUXX\, 96†\, C
 URRYBOYS FROM HELL\, †Ange la Terre†
URL:https://www.tokyogigguide.com/index.php?option=com_jem&view=event&id=35
 594:lapin-agile-poison-d-hermes-cavalerie-cruxx-96-curryboys-from-hell-ang
 e-la-terre&Itemid=1094
END:VEVENT
END:VCALENDAR
