BEGIN:VCALENDAR
VERSION:2.0
PRODID:-//104.152.168.27//NONSGML kigkonsult.se iCalcreator 2.20//
CALSCALE:GREGORIAN
METHOD:PUBLISH
X-WR-TIMEZONE:Asia/Tokyo
BEGIN:VEVENT
UID:event35316@Tokyo Gig Guide
DTSTAMP:20260419T185643Z
CATEGORIES:Jazz
DESCRIPTION:Masatake Abe (bass)\, Kanon Aonami (alto sax)\, Masaki Kai (con
 trabass) \nカテゴリ: Jazz\nリンク: https://www.tokyogigguide.com/index.php?option
 =com_jem&view=event&id=35316:masatake-abe-bass-kanon-aonami-alto-sax-yasua
 ki-kowa-guitar&Itemid=1094\n
DTSTART:20250419T143000
DTEND:20250419T143000
LOCATION:MYSTIC\,4-41-2 Nakayama\, Midori-ku\, Yokohama-shi\, Kanagawa\,Yok
 ohama
SUMMARY:Masatake Abe (bass)\, Kanon Aonami (alto sax)\, Masaki Kai (contrab
 ass) 
URL:https://www.tokyogigguide.com/index.php?option=com_jem&view=event&id=35
 316:masatake-abe-bass-kanon-aonami-alto-sax-yasuaki-kowa-guitar&Itemid=109
 4
END:VEVENT
END:VCALENDAR
