BEGIN:VCALENDAR
VERSION:2.0
PRODID:-//104.152.168.27//NONSGML kigkonsult.se iCalcreator 2.20//
CALSCALE:GREGORIAN
METHOD:PUBLISH
X-WR-TIMEZONE:Asia/Tokyo
BEGIN:VEVENT
UID:event35051@Tokyo Gig Guide
DTSTAMP:20260419T230705Z
CATEGORIES:Funk\, Jazz\, Latin\, Soul
DESCRIPTION:Mariko Nakabayashi (key)\, Hiroki Murakami (dr)\, Johnhori (ba)
 \, mizqui (vo)\nカテゴリ: Funk\, Jazz\, Latin\, Soul\nリンク: https://www.tokyogi
 gguide.com/index.php?option=com_jem&view=event&id=35051:mariko-nakabayashi
 -key-hiroki-murakami-dr-johnhori-ba-mizqui-vo-madoron-17-a-door-release-li
 ve&Itemid=1094\n
DTSTART:20250321T190000
DTEND:20250321T190000
LOCATION:ZIMAGINE\,6-2-13-B1 Minami-Aoyama\, Minato-ku\, Tokyo\,Omotesando
SUMMARY:Mariko Nakabayashi (key)\, Hiroki Murakami (dr)\, Johnhori (ba)\, m
 izqui (vo)
URL:https://www.tokyogigguide.com/index.php?option=com_jem&view=event&id=35
 051:mariko-nakabayashi-key-hiroki-murakami-dr-johnhori-ba-mizqui-vo-madoro
 n-17-a-door-release-live&Itemid=1094
END:VEVENT
END:VCALENDAR
