BEGIN:VCALENDAR
VERSION:2.0
PRODID:-//104.152.168.27//NONSGML kigkonsult.se iCalcreator 2.20//
CALSCALE:GREGORIAN
METHOD:PUBLISH
X-WR-TIMEZONE:Asia/Tokyo
BEGIN:VEVENT
UID:event35017@Tokyo Gig Guide
DTSTAMP:20260425T151752Z
CATEGORIES:Rock n Roll\, Punk\, Power Pop\, Pop-punk\, Alternative
DESCRIPTION:What goes up\, MEGA X\, ELMOC\, Upstairs\nカテゴリ: Rock n Roll\, P
 unk\, Power Pop\, Pop-punk\, Alternative\nリンク: https://www.tokyogigguide.c
 om/index.php?option=com_jem&view=event&id=35017:what-goes-up-mega-x-elmoc-
 upstairs&Itemid=1094\n
DTSTART:20250405T183000
DTEND:20250405T183000
LOCATION:Daydream\,6F\, 1-1-4\, Minami-cho\, Kichijoji\, Musashino city\,Ki
 chijoji
SUMMARY:What goes up\, MEGA X\, ELMOC\, Upstairs
URL:https://www.tokyogigguide.com/index.php?option=com_jem&view=event&id=35
 017:what-goes-up-mega-x-elmoc-upstairs&Itemid=1094
END:VEVENT
END:VCALENDAR
