BEGIN:VCALENDAR
VERSION:2.0
PRODID:-//104.152.168.27//NONSGML kigkonsult.se iCalcreator 2.20//
CALSCALE:GREGORIAN
METHOD:PUBLISH
X-WR-TIMEZONE:Asia/Tokyo
BEGIN:VEVENT
UID:event34659@Tokyo Gig Guide
DTSTAMP:20260424T063835Z
CATEGORIES:Avant garde\, Experimental\, Free Jazz\, Improvised\, Jazz
DESCRIPTION:Dror Feiler (sax)\, Shoji Hano (ds)\, Dairo Suga (p)\, Shinpei 
 Ruike (tp)\, Kentarou Nakao (bass)\nカテゴリ: Avant garde\, Experimental\, Fre
 e Jazz\, Improvised\, Jazz\nリンク: https://www.tokyogigguide.com/index.php?o
 ption=com_jem&view=event&id=34659:shoji-hano-ds-dairou-suga-p-keisuke-ota-
 vn-kentaro-nakao-b-cal-lyall-g&Itemid=1094\n
DTSTART:20250321T183000
DTEND:20250321T183000
LOCATION:Dolphy\,2-17-4-2F Miyagawa-cho\, Naka-ku\, Yokohama\,Yokohama
SUMMARY:Dror Feiler (sax)\, Shoji Hano (ds)\, Dairo Suga (p)\, Shinpei Ruik
 e (tp)\, Kentarou Nakao (bass)
URL:https://www.tokyogigguide.com/index.php?option=com_jem&view=event&id=34
 659:shoji-hano-ds-dairou-suga-p-keisuke-ota-vn-kentaro-nakao-b-cal-lyall-g
 &Itemid=1094
END:VEVENT
END:VCALENDAR
