BEGIN:VCALENDAR
VERSION:2.0
PRODID:-//104.152.168.27//NONSGML kigkonsult.se iCalcreator 2.20//
CALSCALE:GREGORIAN
METHOD:PUBLISH
X-WR-TIMEZONE:Asia/Tokyo
BEGIN:VEVENT
UID:event34595@Tokyo Gig Guide
DTSTAMP:20260425T164921Z
CATEGORIES:Metal\, Rock
DESCRIPTION:MASSACRE\, Defiled\nカテゴリ: Metal\, Rock\nリンク: https://www.tokyog
 igguide.com/index.php?option=com_jem&view=event&id=34595:massacre-and-more
 &Itemid=1094\n
DTSTART:20250523T183000
DTEND:20250523T183000
LOCATION:HOLIDAY SHINJUKU\,Shinjuku
SUMMARY:MASSACRE\, Defiled
URL:https://www.tokyogigguide.com/index.php?option=com_jem&view=event&id=34
 595:massacre-and-more&Itemid=1094
END:VEVENT
END:VCALENDAR
