BEGIN:VCALENDAR
VERSION:2.0
PRODID:-//104.152.168.27//NONSGML kigkonsult.se iCalcreator 2.20//
CALSCALE:GREGORIAN
METHOD:PUBLISH
X-WR-TIMEZONE:Asia/Tokyo
BEGIN:VEVENT
UID:event34425@Tokyo Gig Guide
DTSTAMP:20260424T204800Z
CATEGORIES:Acoustic\, Funk\, Instrumental\, Jazz\, Latin
DESCRIPTION:super Jazz strings\nカテゴリ: Acoustic\, Funk\, Instrumental\, Jazz
 \, Latin\nリンク: https://www.tokyogigguide.com/index.php?option=com_jem&view
 =event&id=34425:super-jazz-strings&Itemid=1094\n
DTSTART:20250206T190000
DTEND:20250206T190000
LOCATION:ZIMAGINE\,6-2-13-B1 Minami-Aoyama\, Minato-ku\, Tokyo\,Omotesando
SUMMARY:super Jazz strings
URL:https://www.tokyogigguide.com/index.php?option=com_jem&view=event&id=34
 425:super-jazz-strings&Itemid=1094
END:VEVENT
END:VCALENDAR
