BEGIN:VCALENDAR
VERSION:2.0
PRODID:-//104.152.168.27//NONSGML kigkonsult.se iCalcreator 2.20//
CALSCALE:GREGORIAN
METHOD:PUBLISH
X-WR-TIMEZONE:Asia/Tokyo
BEGIN:VEVENT
UID:event34156@Tokyo Gig Guide
DTSTAMP:20260421T150706Z
CATEGORIES:Garage Rock\, Indie-Rock\, New Wave\, Post-Punk\, Psychedelic
DESCRIPTION:Giallo\, l WANT CITY (from Fukuoka)\, Three Ring Circus\, KIDDE
 R \nカテゴリ: Garage Rock\, Indie-Rock\, New Wave\, Post-Punk\, Psychedelic\nリ
 ンク: https://www.tokyogigguide.com/index.php?option=com_jem&view=event&id=3
 4156:giallo-l-want-city-from-fukuoka-three-ring-circus-kidder&Itemid=1094
 \n
DTSTART:20250111T183000
DTEND:20250111T183000
LOCATION:Daydream\,6F\, 1-1-4\, Minami-cho\, Kichijoji\, Musashino city\,Ki
 chijoji
SUMMARY:Giallo\, l WANT CITY (from Fukuoka)\, Three Ring Circus\, KIDDER 
URL:https://www.tokyogigguide.com/index.php?option=com_jem&view=event&id=34
 156:giallo-l-want-city-from-fukuoka-three-ring-circus-kidder&Itemid=1094
END:VEVENT
END:VCALENDAR
