BEGIN:VCALENDAR
VERSION:2.0
PRODID:-//104.152.168.27//NONSGML kigkonsult.se iCalcreator 2.20//
CALSCALE:GREGORIAN
METHOD:PUBLISH
X-WR-TIMEZONE:Asia/Tokyo
BEGIN:VEVENT
UID:event34126@Tokyo Gig Guide
DTSTAMP:20260419T153212Z
CATEGORIES:Alternative\, Indie-Rock\, Jazz\, Math-Rock\, Progressive
DESCRIPTION:misebaya (みせばや)\, おおくぼけいと建築\nカテゴリ: Alternative\, Indie-Rock\, J
 azz\, Math-Rock\, Progressive\nリンク: https://www.tokyogigguide.com/index.ph
 p?option=com_jem&view=event&id=34126:misebaya&Itemid=1094\n
DTSTART:20250208T183000
DTEND:20250208T183000
LOCATION:crotchet cafe\,1-1-13 Motomanuma\, Suginami-ku\, Tokyo\,Asagaya
SUMMARY:misebaya (みせばや)\, おおくぼけいと建築
URL:https://www.tokyogigguide.com/index.php?option=com_jem&view=event&id=34
 126:misebaya&Itemid=1094
END:VEVENT
END:VCALENDAR
