BEGIN:VCALENDAR
VERSION:2.0
PRODID:-//104.152.168.27//NONSGML kigkonsult.se iCalcreator 2.20//
CALSCALE:GREGORIAN
METHOD:PUBLISH
X-WR-TIMEZONE:Asia/Tokyo
BEGIN:VEVENT
UID:event34002@Tokyo Gig Guide
DTSTAMP:20260424T081423Z
CATEGORIES:Improvised\, Indie-Rock\, Rock\, Soul
DESCRIPTION:山口 洋 X モーガン フィッシャー ライヴ＆トークショー (HIROSHI YAMAGUCHI (HEATWAVE) + M
 ORGAN FISHER Live/Talk Show) DAY 2 OF 2\nカテゴリ: Improvised\, Indie-Rock\, R
 ock\, Soul\nリンク: https://www.tokyogigguide.com/index.php?option=com_jem&vi
 ew=event&id=34002:x-hiroshi-yamaguchi-heatwave-morgan-fisher-live-talk-sho
 w-day-2-of-2&Itemid=1094\n
DTSTART:20250105T180000
DTEND:20250105T180000
LOCATION:Morgan Salon (CLOSED DOWN)
SUMMARY:山口 洋 X モーガン フィッシャー ライヴ＆トークショー (HIROSHI YAMAGUCHI (HEATWAVE) + MORGA
 N FISHER Live/Talk Show) DAY 2 OF 2
URL:https://www.tokyogigguide.com/index.php?option=com_jem&view=event&id=34
 002:x-hiroshi-yamaguchi-heatwave-morgan-fisher-live-talk-show-day-2-of-2&I
 temid=1094
END:VEVENT
END:VCALENDAR
