BEGIN:VCALENDAR
VERSION:2.0
PRODID:-//104.152.168.27//NONSGML kigkonsult.se iCalcreator 2.20//
CALSCALE:GREGORIAN
METHOD:PUBLISH
X-WR-TIMEZONE:Asia/Tokyo
BEGIN:VEVENT
UID:event33849@Tokyo Gig Guide
DTSTAMP:20260423T141259Z
CATEGORIES:Experimental\, Free Jazz\, Improvised
DESCRIPTION:Shoji Hano (drums)\, Shinpei Ruike (trumpet)\, Cal Lyall (guita
 r)\, Kentaro Nakao (bass)\, Emil Bø (trombone)\nカテゴリ: Experimental\, Free 
 Jazz\, Improvised\nリンク: https://www.tokyogigguide.com/index.php?option=com
 _jem&view=event&id=33849:shoji-hano-drums-shinpei-ruike-trumpet-cal-lyall-
 guitar-kentaro-nakao-bass-emil-bo-trombone&Itemid=1094\n
DTSTART:20241203T190000
DTEND:20241203T190000
LOCATION:Dolphy\,2-17-4-2F Miyagawa-cho\, Naka-ku\, Yokohama\,Yokohama
SUMMARY:Shoji Hano (drums)\, Shinpei Ruike (trumpet)\, Cal Lyall (guitar)\,
  Kentaro Nakao (bass)\, Emil Bø (trombone)
URL:https://www.tokyogigguide.com/index.php?option=com_jem&view=event&id=33
 849:shoji-hano-drums-shinpei-ruike-trumpet-cal-lyall-guitar-kentaro-nakao-
 bass-emil-bo-trombone&Itemid=1094
END:VEVENT
END:VCALENDAR
