BEGIN:VCALENDAR
VERSION:2.0
PRODID:-//104.152.168.27//NONSGML kigkonsult.se iCalcreator 2.20//
CALSCALE:GREGORIAN
METHOD:PUBLISH
X-WR-TIMEZONE:Asia/Tokyo
BEGIN:VEVENT
UID:event33451@Tokyo Gig Guide
DTSTAMP:20260423T034613Z
CATEGORIES:Blues\, Funk\, Open Mic\, R n B\, Soul
DESCRIPTION:Love & Peace Band Jam Session\nカテゴリ: Blues\, Funk\, Open Mic\, 
 R n B\, Soul\nリンク: https://www.tokyogigguide.com/index.php?option=com_jem&
 view=event&id=33451:love-peace-band-jam-session&Itemid=1094\n
DTSTART:20241101T190000
DTEND:20241101T190000
LOCATION:Love\, Peace and Soul Live Cafe\,Parfum Kyodo B1-C 1-5-6 Kyodo\, S
 etagaya-ku\, Tokyo\,Kyodo
SUMMARY:Love & Peace Band Jam Session
URL:https://www.tokyogigguide.com/index.php?option=com_jem&view=event&id=33
 451:love-peace-band-jam-session&Itemid=1094
END:VEVENT
END:VCALENDAR
