BEGIN:VCALENDAR
VERSION:2.0
PRODID:-//104.152.168.27//NONSGML kigkonsult.se iCalcreator 2.20//
CALSCALE:GREGORIAN
METHOD:PUBLISH
X-WR-TIMEZONE:Asia/Tokyo
BEGIN:VEVENT
UID:event33325@Tokyo Gig Guide
DTSTAMP:20260423T234145Z
CATEGORIES:Alternative\, Indie-Rock\, Shoegaze
DESCRIPTION:Tokyo Shoegazer\, geek sleep sheep\nカテゴリ: Alternative\, Indie-R
 ock\, Shoegaze\nリンク: https://www.tokyogigguide.com/index.php?option=com_je
 m&view=event&id=33325:tokyo-shoegazer-geek-sleep-sheep&Itemid=1094\n
DTSTART:20241212T180000
DTEND:20241212T180000
LOCATION:Koenji High\,4-30-1 Koenji-Minami\,Koenji
SUMMARY:Tokyo Shoegazer\, geek sleep sheep
URL:https://www.tokyogigguide.com/index.php?option=com_jem&view=event&id=33
 325:tokyo-shoegazer-geek-sleep-sheep&Itemid=1094
END:VEVENT
END:VCALENDAR
