BEGIN:VCALENDAR
VERSION:2.0
PRODID:-//104.152.168.27//NONSGML kigkonsult.se iCalcreator 2.20//
CALSCALE:GREGORIAN
METHOD:PUBLISH
X-WR-TIMEZONE:Asia/Tokyo
BEGIN:VEVENT
UID:event32818@Tokyo Gig Guide
DTSTAMP:20260419T165832Z
CATEGORIES:Jazz
DESCRIPTION:おひるね+1 Ohirune+1\nカテゴリ: Jazz\nリンク: https://www.tokyogigguide.co
 m/index.php?option=com_jem&view=event&id=32818:1-ohirune-1&Itemid=1094\n
DTSTART:20240907T190000
DTEND:20240907T190000
LOCATION:Sweet Rain\,Okada Bldg. B1\, 5-46-5　Nakano\, Nakano-ku\, Tokyo\,Na
 kano
SUMMARY:おひるね+1 Ohirune+1
URL:https://www.tokyogigguide.com/index.php?option=com_jem&view=event&id=32
 818:1-ohirune-1&Itemid=1094
END:VEVENT
END:VCALENDAR
