BEGIN:VCALENDAR
VERSION:2.0
PRODID:-//104.152.168.27//NONSGML kigkonsult.se iCalcreator 2.20//
CALSCALE:GREGORIAN
METHOD:PUBLISH
X-WR-TIMEZONE:Asia/Tokyo
BEGIN:VEVENT
UID:event32817@Tokyo Gig Guide
DTSTAMP:20260423T034517Z
CATEGORIES:Acoustic\, Jazz
DESCRIPTION:HIROKI Koichi ＆ IIDA Masaharu\nカテゴリ: Acoustic\, Jazz\nリンク: http
 s://www.tokyogigguide.com/index.php?option=com_jem&view=event&id=32817:hir
 oki-koichi-iida-masaharu&Itemid=1094\n
DTSTART:20240906T190000
DTEND:20240906T190000
LOCATION:Sweet Rain\,Okada Bldg. B1\, 5-46-5　Nakano\, Nakano-ku\, Tokyo\,Na
 kano
SUMMARY:HIROKI Koichi ＆ IIDA Masaharu
URL:https://www.tokyogigguide.com/index.php?option=com_jem&view=event&id=32
 817:hiroki-koichi-iida-masaharu&Itemid=1094
END:VEVENT
END:VCALENDAR
