BEGIN:VCALENDAR
VERSION:2.0
PRODID:-//104.152.168.27//NONSGML kigkonsult.se iCalcreator 2.20//
CALSCALE:GREGORIAN
METHOD:PUBLISH
X-WR-TIMEZONE:Asia/Tokyo
BEGIN:VEVENT
UID:event32802@Tokyo Gig Guide
DTSTAMP:20260423T141239Z
CATEGORIES:Acoustic\, Avant garde\, Improvised\, Noise\, Performance
DESCRIPTION:Reona (avant-garde tap dance\, metal perc)\, Junji mori (alto s
 ax\, bass clarinet)\nカテゴリ: Acoustic\, Avant garde\, Improvised\, Noise\, P
 erformance\nリンク: https://www.tokyogigguide.com/index.php?option=com_jem&vi
 ew=event&id=32802:reona-avant-garde-tap-dance-metal-perc-junji-mori-alto-s
 ax-bass-clarinet&Itemid=1094\n
DTSTART:20241028T190000
DTEND:20241028T190000
LOCATION:Thelonious\,5-9-1\, Higashi Nakano\, Nakano-ku\,Higashi-Nakano
SUMMARY:Reona (avant-garde tap dance\, metal perc)\, Junji mori (alto sax\,
  bass clarinet)
URL:https://www.tokyogigguide.com/index.php?option=com_jem&view=event&id=32
 802:reona-avant-garde-tap-dance-metal-perc-junji-mori-alto-sax-bass-clarin
 et&Itemid=1094
END:VEVENT
END:VCALENDAR
