BEGIN:VCALENDAR
VERSION:2.0
PRODID:-//104.152.168.27//NONSGML kigkonsult.se iCalcreator 2.20//
CALSCALE:GREGORIAN
METHOD:PUBLISH
X-WR-TIMEZONE:Asia/Tokyo
BEGIN:VEVENT
UID:event3273@Tokyo Gig Guide
DTSTAMP:20260423T191857Z
CATEGORIES:Mixed Genre
DESCRIPTION:cottonioo\, Living Astro\nカテゴリ: Mixed Genre\nリンク: https://www.t
 okyogigguide.com/index.php?option=com_jem&view=event&id=3273:cottonioo-liv
 ing-astro&Itemid=1094\n
DTSTART:20100807T190000
DTEND:20100807T190000
LOCATION:Knock (Koenji)\,Koenji Minami 3-48-6  B1F\,Koenji
SUMMARY:cottonioo\, Living Astro
URL:https://www.tokyogigguide.com/index.php?option=com_jem&view=event&id=32
 73:cottonioo-living-astro&Itemid=1094
END:VEVENT
END:VCALENDAR
