BEGIN:VCALENDAR
VERSION:2.0
PRODID:-//104.152.168.27//NONSGML kigkonsult.se iCalcreator 2.20//
CALSCALE:GREGORIAN
METHOD:PUBLISH
X-WR-TIMEZONE:Asia/Tokyo
BEGIN:VEVENT
UID:event32662@Tokyo Gig Guide
DTSTAMP:20260421T092811Z
CATEGORIES:Alternative\, Dream-pop\, Indie\, Lo-Fi\, Shoegaze
DESCRIPTION:kinyou no yoru\, hail lain\, plant cell\, arti\, Beachside talk
 s\, Moon In June\nカテゴリ: Alternative\, Dream-pop\, Indie\, Lo-Fi\, Shoegaze
 \nリンク: https://www.tokyogigguide.com/index.php?option=com_jem&view=event&i
 d=32662:kinyou-no-yoru-hail-lain-plant-cell-arti-beachside-talks-moon-in-j
 une&Itemid=1094\n
DTSTART:20241109T160000
DTEND:20241109T160000
LOCATION:Daisy Bar\,Elsanto Kitazawa B1\, Kitazawa 2-2-3\, Setagaya-ku\,Shi
 mokitazawa
SUMMARY:kinyou no yoru\, hail lain\, plant cell\, arti\, Beachside talks\, 
 Moon In June
URL:https://www.tokyogigguide.com/index.php?option=com_jem&view=event&id=32
 662:kinyou-no-yoru-hail-lain-plant-cell-arti-beachside-talks-moon-in-june&
 Itemid=1094
END:VEVENT
END:VCALENDAR
