BEGIN:VCALENDAR
VERSION:2.0
PRODID:-//104.152.168.27//NONSGML kigkonsult.se iCalcreator 2.20//
CALSCALE:GREGORIAN
METHOD:PUBLISH
X-WR-TIMEZONE:Asia/Tokyo
BEGIN:VEVENT
UID:event32565@Tokyo Gig Guide
DTSTAMP:20260425T134918Z
CATEGORIES:Avant garde\, Experimental\, Improvised\, Progressive
DESCRIPTION:Casimir Liberski\, Yoshihide Otomo\, Tatsuya Yoshida\nカテゴリ: Ava
 nt garde\, Experimental\, Improvised\, Progressive\nリンク: https://www.tokyo
 gigguide.com/index.php?option=com_jem&view=event&id=32565:casimir-liberski
 -yoshihide-otomo-tatsuya-yoshida&Itemid=1094\n
DTSTART:20240818T183000
DTEND:20240818T183000
LOCATION:Jirokichi\,Koenji Bldg B1\, 2-3-4 Koenji-kita\,Koenji
SUMMARY:Casimir Liberski\, Yoshihide Otomo\, Tatsuya Yoshida
URL:https://www.tokyogigguide.com/index.php?option=com_jem&view=event&id=32
 565:casimir-liberski-yoshihide-otomo-tatsuya-yoshida&Itemid=1094
END:VEVENT
END:VCALENDAR
