BEGIN:VCALENDAR
VERSION:2.0
PRODID:-//104.152.168.27//NONSGML kigkonsult.se iCalcreator 2.20//
CALSCALE:GREGORIAN
METHOD:PUBLISH
X-WR-TIMEZONE:Asia/Tokyo
BEGIN:VEVENT
UID:event32439@Tokyo Gig Guide
DTSTAMP:20260420T184909Z
CATEGORIES:All Mix\, Free Jazz\, Improvised\, Jam\, Jazz
DESCRIPTION:Improvisation WS with Host: Hayashi Takashi (g)\nカテゴリ: All Mix\
 , Free Jazz\, Improvised\, Jam\, Jazz\nリンク: https://www.tokyogigguide.com/
 index.php?option=com_jem&view=event&id=32439:improvisation-ws-host-hayashi
 -takashi-g&Itemid=1094\n
DTSTART:20240810T133000
DTEND:20240810T133000
LOCATION:Knuttel House\,4-1-8 Matsugaya\, Taito-ku\, Tokyo\,Iriya
SUMMARY:Improvisation WS with Host: Hayashi Takashi (g)
URL:https://www.tokyogigguide.com/index.php?option=com_jem&view=event&id=32
 439:improvisation-ws-host-hayashi-takashi-g&Itemid=1094
END:VEVENT
END:VCALENDAR
