BEGIN:VCALENDAR
VERSION:2.0
PRODID:-//104.152.168.27//NONSGML kigkonsult.se iCalcreator 2.20//
CALSCALE:GREGORIAN
METHOD:PUBLISH
X-WR-TIMEZONE:Asia/Tokyo
BEGIN:VEVENT
UID:event32370@Tokyo Gig Guide
DTSTAMP:20260420T215832Z
CATEGORIES:Indie-Pop
DESCRIPTION:good picture!\, more\nカテゴリ: Indie-Pop\nリンク: https://www.tokyogi
 gguide.com/index.php?option=com_jem&view=event&id=32370:good-picture-and-m
 ore&Itemid=1094\n
DTSTART:20240829T170000
DTEND:20240829T170000
LOCATION:Apocalypse Now\,Arakawa 1-31-7\, Arakawa-ku\, Tokyo\,Minowa
SUMMARY:good picture!\, more
URL:https://www.tokyogigguide.com/index.php?option=com_jem&view=event&id=32
 370:good-picture-and-more&Itemid=1094
END:VEVENT
END:VCALENDAR
