BEGIN:VCALENDAR
VERSION:2.0
PRODID:-//104.152.168.27//NONSGML kigkonsult.se iCalcreator 2.20//
CALSCALE:GREGORIAN
METHOD:PUBLISH
X-WR-TIMEZONE:Asia/Tokyo
BEGIN:VEVENT
UID:event32330@Tokyo Gig Guide
DTSTAMP:20260421T185203Z
CATEGORIES:Funk\, Instrumental\, Jazz\, Latin\, Soul
DESCRIPTION:Madoron: Mariko Nakabayashi\, Hiroki Murakami\, Johnhori\nカテゴリ:
  Funk\, Instrumental\, Jazz\, Latin\, Soul\nリンク: https://www.tokyogigguide
 .com/index.php?option=com_jem&view=event&id=32330:mariko-nakabayashi-hirok
 i-murakami-johnhori-madoron-16-live-recording&Itemid=1094\n
DTSTART:20240903T190000
DTEND:20240903T190000
LOCATION:ZIMAGINE\,6-2-13-B1 Minami-Aoyama\, Minato-ku\, Tokyo\,Omotesando
SUMMARY:Madoron: Mariko Nakabayashi\, Hiroki Murakami\, Johnhori
URL:https://www.tokyogigguide.com/index.php?option=com_jem&view=event&id=32
 330:mariko-nakabayashi-hiroki-murakami-johnhori-madoron-16-live-recording&
 Itemid=1094
END:VEVENT
END:VCALENDAR
