BEGIN:VCALENDAR
VERSION:2.0
PRODID:-//104.152.168.27//NONSGML kigkonsult.se iCalcreator 2.20//
CALSCALE:GREGORIAN
METHOD:PUBLISH
X-WR-TIMEZONE:Asia/Tokyo
BEGIN:VEVENT
UID:event32251@Tokyo Gig Guide
DTSTAMP:20260420T204454Z
CATEGORIES:Alternative\, Indie-Rock\, Punk\, Rock
DESCRIPTION:KIDDER\, TIALA\, Sorry No Camisole\, Hoach5000\nカテゴリ: Alternati
 ve\, Indie-Rock\, Punk\, Rock\nリンク: https://www.tokyogigguide.com/index.ph
 p?option=com_jem&view=event&id=32251:kidder-tiala-sorry-no-camisole-hoach5
 000&Itemid=1094\n
DTSTART:20240825T163000
DTEND:20240825T163000
LOCATION:Daydream\,6F\, 1-1-4\, Minami-cho\, Kichijoji\, Musashino city\,Ki
 chijoji
SUMMARY:KIDDER\, TIALA\, Sorry No Camisole\, Hoach5000
URL:https://www.tokyogigguide.com/index.php?option=com_jem&view=event&id=32
 251:kidder-tiala-sorry-no-camisole-hoach5000&Itemid=1094
END:VEVENT
END:VCALENDAR
