BEGIN:VCALENDAR
VERSION:2.0
PRODID:-//104.152.168.27//NONSGML kigkonsult.se iCalcreator 2.20//
CALSCALE:GREGORIAN
METHOD:PUBLISH
X-WR-TIMEZONE:Asia/Tokyo
BEGIN:VEVENT
UID:event32@Tokyo Gig Guide
DTSTAMP:20260422T053354Z
CATEGORIES:Jazz
DESCRIPTION:The Cinematic Orchestra\, Flying Lotus\, Gonja Sufi\nカテゴリ: Jazz
 \nリンク: https://www.tokyogigguide.com/index.php?option=com_jem&view=event&i
 d=32:the-cinematic-orchestra-flying-lotus-gonja-sufi&Itemid=1094\n
DTSTART:20081003T120000
DTEND:20081003T120000
LOCATION:O-East\,2F 2-14-9 Dogenzaka\, Shibuya-ku\,Shibuya
SUMMARY:The Cinematic Orchestra\, Flying Lotus\, Gonja Sufi
URL:https://www.tokyogigguide.com/index.php?option=com_jem&view=event&id=32
 :the-cinematic-orchestra-flying-lotus-gonja-sufi&Itemid=1094
END:VEVENT
END:VCALENDAR
