BEGIN:VCALENDAR
VERSION:2.0
PRODID:-//104.152.168.27//NONSGML kigkonsult.se iCalcreator 2.20//
CALSCALE:GREGORIAN
METHOD:PUBLISH
X-WR-TIMEZONE:Asia/Tokyo
BEGIN:VEVENT
UID:event31990@Tokyo Gig Guide
DTSTAMP:20260420T045305Z
CATEGORIES:Alternative\, Avant garde
DESCRIPTION:hebikinoco\, Bar Man\, MazerunaKiken\, Kazumi\, more\nカテゴリ: Alt
 ernative\, Avant garde\nリンク: https://www.tokyogigguide.com/index.php?optio
 n=com_jem&view=event&id=31990:light-and-shadow-vol-20&Itemid=1094\n
DTSTART:20240815T170000
DTEND:20240815T170000
LOCATION:Apocalypse Now\,Arakawa 1-31-7\, Arakawa-ku\, Tokyo\,Minowa
SUMMARY:hebikinoco\, Bar Man\, MazerunaKiken\, Kazumi\, more
URL:https://www.tokyogigguide.com/index.php?option=com_jem&view=event&id=31
 990:light-and-shadow-vol-20&Itemid=1094
END:VEVENT
END:VCALENDAR
