BEGIN:VCALENDAR
VERSION:2.0
PRODID:-//104.152.168.27//NONSGML kigkonsult.se iCalcreator 2.20//
CALSCALE:GREGORIAN
METHOD:PUBLISH
X-WR-TIMEZONE:Asia/Tokyo
BEGIN:VEVENT
UID:event31984@Tokyo Gig Guide
DTSTAMP:20260422T194300Z
CATEGORIES:Alternative\, Art\, Avant garde
DESCRIPTION:Light and Shadow Vol.19\nカテゴリ: Alternative\, Art\, Avant garde
 \nリンク: https://www.tokyogigguide.com/index.php?option=com_jem&view=event&i
 d=31984:light-and-shadow-vol-19&Itemid=1094\n
DTSTART:20240718T170000
DTEND:20240718T170000
LOCATION:Apocalypse Now\,Arakawa 1-31-7\, Arakawa-ku\, Tokyo\,Minowa
SUMMARY:Light and Shadow Vol.19
URL:https://www.tokyogigguide.com/index.php?option=com_jem&view=event&id=31
 984:light-and-shadow-vol-19&Itemid=1094
END:VEVENT
END:VCALENDAR
