BEGIN:VCALENDAR
VERSION:2.0
PRODID:-//104.152.168.27//NONSGML kigkonsult.se iCalcreator 2.20//
CALSCALE:GREGORIAN
METHOD:PUBLISH
X-WR-TIMEZONE:Asia/Tokyo
BEGIN:VEVENT
UID:event31954@Tokyo Gig Guide
DTSTAMP:20260420T023431Z
CATEGORIES:Avant garde\, Blues\, Experimental\, Improvised\, Jazz
DESCRIPTION:Michael Sutton\, Ayako Kanda and Yuichi Ushioda\nカテゴリ: Avant ga
 rde\, Blues\, Experimental\, Improvised\, Jazz\nリンク: https://www.tokyogigg
 uide.com/index.php?option=com_jem&view=event&id=31954:michael-sutton-ayako
 -kanda-and-yuichi-ushioda&Itemid=1094\n
DTSTART:20240622T190000
DTEND:20240622T190000
LOCATION:hako gallery\,Nishihara 3-1-4\, Shibuya-ku\, Tokyo\,Yoyogi-Uehara
SUMMARY:Michael Sutton\, Ayako Kanda and Yuichi Ushioda
URL:https://www.tokyogigguide.com/index.php?option=com_jem&view=event&id=31
 954:michael-sutton-ayako-kanda-and-yuichi-ushioda&Itemid=1094
END:VEVENT
END:VCALENDAR
