BEGIN:VCALENDAR
VERSION:2.0
PRODID:-//104.152.168.27//NONSGML kigkonsult.se iCalcreator 2.20//
CALSCALE:GREGORIAN
METHOD:PUBLISH
X-WR-TIMEZONE:Asia/Tokyo
BEGIN:VEVENT
UID:event31890@Tokyo Gig Guide
DTSTAMP:20260421T114421Z
CATEGORIES:Indie\, Experimental\, Alternative\, Indie-Pop\, Shoegaze
DESCRIPTION:MellMell\, moon in june\, jan flu\nカテゴリ: Indie\, Experimental\,
  Alternative\, Indie-Pop\, Shoegaze\nリンク: https://www.tokyogigguide.com/in
 dex.php?option=com_jem&view=event&id=31890:mellmell-moon-in-june-jan-flu&I
 temid=1094\n
DTSTART:20240921T183000
DTEND:20240921T183000
LOCATION:Daydream\,6F\, 1-1-4\, Minami-cho\, Kichijoji\, Musashino city\,Ki
 chijoji
SUMMARY:MellMell\, moon in june\, jan flu
URL:https://www.tokyogigguide.com/index.php?option=com_jem&view=event&id=31
 890:mellmell-moon-in-june-jan-flu&Itemid=1094
END:VEVENT
END:VCALENDAR
