BEGIN:VCALENDAR
VERSION:2.0
PRODID:-//104.152.168.27//NONSGML kigkonsult.se iCalcreator 2.20//
CALSCALE:GREGORIAN
METHOD:PUBLISH
X-WR-TIMEZONE:Asia/Tokyo
BEGIN:VEVENT
UID:event31877@Tokyo Gig Guide
DTSTAMP:20260423T231406Z
CATEGORIES:Blues\, Garage Rock\, Punk\, Rock\, Rock n Roll
DESCRIPTION:The Memphis Bell\, leroy\, SoberBrown\nカテゴリ: Blues\, Garage Roc
 k\, Punk\, Rock\, Rock n Roll\nリンク: https://www.tokyogigguide.com/index.ph
 p?option=com_jem&view=event&id=31877:the-memphis-bell-leroy-soberbrown&Ite
 mid=1094\n
DTSTART:20240705T183000
DTEND:20240705T183000
LOCATION:Meets\,Minami-Otsuka 3-50-1\,Otsuka
SUMMARY:The Memphis Bell\, leroy\, SoberBrown
URL:https://www.tokyogigguide.com/index.php?option=com_jem&view=event&id=31
 877:the-memphis-bell-leroy-soberbrown&Itemid=1094
END:VEVENT
END:VCALENDAR
