BEGIN:VCALENDAR
VERSION:2.0
PRODID:-//104.152.168.27//NONSGML kigkonsult.se iCalcreator 2.20//
CALSCALE:GREGORIAN
METHOD:PUBLISH
X-WR-TIMEZONE:Asia/Tokyo
BEGIN:VEVENT
UID:event31839@Tokyo Gig Guide
DTSTAMP:20260420T040745Z
CATEGORIES:Abstract\, Experimental\, Improvised\, Jazz
DESCRIPTION:Masayo Koketsu (as)\, Noboru Ando (ba)\, Raiga Hayashi (dr)\nカテ
 ゴリ: Abstract\, Experimental\, Improvised\, Jazz\nリンク: https://www.tokyogig
 guide.com/index.php?option=com_jem&view=event&id=31839:masayo-koketsu-as-n
 oboru-ando-ba-raiga-hayashi-dr&Itemid=1094\n
DTSTART:20240616T180000
DTEND:20240616T180000
LOCATION:Dolphy\,2-17-4-2F Miyagawa-cho\, Naka-ku\, Yokohama\,Yokohama
SUMMARY:Masayo Koketsu (as)\, Noboru Ando (ba)\, Raiga Hayashi (dr)
URL:https://www.tokyogigguide.com/index.php?option=com_jem&view=event&id=31
 839:masayo-koketsu-as-noboru-ando-ba-raiga-hayashi-dr&Itemid=1094
END:VEVENT
END:VCALENDAR
