BEGIN:VCALENDAR
VERSION:2.0
PRODID:-//104.152.168.27//NONSGML kigkonsult.se iCalcreator 2.20//
CALSCALE:GREGORIAN
METHOD:PUBLISH
X-WR-TIMEZONE:Asia/Tokyo
BEGIN:VEVENT
UID:event31671@Tokyo Gig Guide
DTSTAMP:20260419T153921Z
CATEGORIES:Alternative\, Blues\, Hip-Hop
DESCRIPTION:macoto.T\, Van Kenji\, AURORA\, MC UYA\, more\nカテゴリ: Alternativ
 e\, Blues\, Hip-Hop\nリンク: https://www.tokyogigguide.com/index.php?option=c
 om_jem&view=event&id=31671:macoto-t-van-kenji-aurora-mc-uya-and-more&Itemi
 d=1094\n
DTSTART:20240616T170000
DTEND:20240616T170000
LOCATION:Apocalypse Now\,Arakawa 1-31-7\, Arakawa-ku\, Tokyo\,Minowa
SUMMARY:macoto.T\, Van Kenji\, AURORA\, MC UYA\, more
URL:https://www.tokyogigguide.com/index.php?option=com_jem&view=event&id=31
 671:macoto-t-van-kenji-aurora-mc-uya-and-more&Itemid=1094
END:VEVENT
END:VCALENDAR
