BEGIN:VCALENDAR
VERSION:2.0
PRODID:-//104.152.168.27//NONSGML kigkonsult.se iCalcreator 2.20//
CALSCALE:GREGORIAN
METHOD:PUBLISH
X-WR-TIMEZONE:Asia/Tokyo
BEGIN:VEVENT
UID:event31661@Tokyo Gig Guide
DTSTAMP:20260421T122429Z
CATEGORIES:Blues\, Improvised\, Industrial\, Punk
DESCRIPTION:勝井祐二 (violin)\, tatsu (bass)\, 柏倉隆史 (drums)\nカテゴリ: Blues\, Impr
 ovised\, Industrial\, Punk\nリンク: https://www.tokyogigguide.com/index.php?o
 ption=com_jem&view=event&id=31661:violin-tatsu-bass-drums&Itemid=1094\n
DTSTART:20240629T190000
DTEND:20240629T190000
LOCATION:POLARIS\,6-2-10 Minami-Aoyama\, Minato-ku\, Tokyo\,Minami-Aoyama
SUMMARY:勝井祐二 (violin)\, tatsu (bass)\, 柏倉隆史 (drums)
URL:https://www.tokyogigguide.com/index.php?option=com_jem&view=event&id=31
 661:violin-tatsu-bass-drums&Itemid=1094
END:VEVENT
END:VCALENDAR
