BEGIN:VCALENDAR
VERSION:2.0
PRODID:-//104.152.168.27//NONSGML kigkonsult.se iCalcreator 2.20//
CALSCALE:GREGORIAN
METHOD:PUBLISH
X-WR-TIMEZONE:Asia/Tokyo
BEGIN:VEVENT
UID:event31630@Tokyo Gig Guide
DTSTAMP:20260421T011905Z
CATEGORIES:Indie-Rock\, Rock\, Rock n Roll
DESCRIPTION:King Brothers\, Impostors\, Watusi Zombie\, THE DO DO DO's\nカテゴ
 リ: Indie-Rock\, Rock\, Rock n Roll\nリンク: https://www.tokyogigguide.com/ind
 ex.php?option=com_jem&view=event&id=31630:king-brothers-impostors-watusi-z
 ombie&Itemid=1094\n
DTSTART:20240715T173000
DTEND:20240715T173000
LOCATION:TOP BEAT CLUB\,1-15-1\, Shimizu\, Suginami-ku\, Tokyo\,Ogikubo
SUMMARY:King Brothers\, Impostors\, Watusi Zombie\, THE DO DO DO's
URL:https://www.tokyogigguide.com/index.php?option=com_jem&view=event&id=31
 630:king-brothers-impostors-watusi-zombie&Itemid=1094
END:VEVENT
END:VCALENDAR
