BEGIN:VCALENDAR
VERSION:2.0
PRODID:-//104.152.168.27//NONSGML kigkonsult.se iCalcreator 2.20//
CALSCALE:GREGORIAN
METHOD:PUBLISH
X-WR-TIMEZONE:Asia/Tokyo
BEGIN:VEVENT
UID:event31493@Tokyo Gig Guide
DTSTAMP:20260420T233338Z
CATEGORIES:Abstract\, Acoustic\, Improvised\, Jazz
DESCRIPTION:Shiko Ito (piano) + Takashi Seo (Double Bass)\nカテゴリ: Abstract\,
  Acoustic\, Improvised\, Jazz\nリンク: https://www.tokyogigguide.com/index.ph
 p?option=com_jem&view=event&id=31493:shiko-ito-piano-takashi-seo-double-ba
 ss&Itemid=1094\n
DTSTART:20240530T190000
DTEND:20240530T190000
LOCATION:Sweet Rain\,Okada Bldg. B1\, 5-46-5　Nakano\, Nakano-ku\, Tokyo\,Na
 kano
SUMMARY:Shiko Ito (piano) + Takashi Seo (Double Bass)
URL:https://www.tokyogigguide.com/index.php?option=com_jem&view=event&id=31
 493:shiko-ito-piano-takashi-seo-double-bass&Itemid=1094
END:VEVENT
END:VCALENDAR
