BEGIN:VCALENDAR
VERSION:2.0
PRODID:-//104.152.168.27//NONSGML kigkonsult.se iCalcreator 2.20//
CALSCALE:GREGORIAN
METHOD:PUBLISH
X-WR-TIMEZONE:Asia/Tokyo
BEGIN:VEVENT
UID:event31482@Tokyo Gig Guide
DTSTAMP:20260419T163826Z
CATEGORIES:Blues\, Pop\, Rock\, Rock n Roll\, Soul
DESCRIPTION:The Brewtones\nカテゴリ: Blues\, Pop\, Rock\, Rock n Roll\, Soul\nリ
 ンク: https://www.tokyogigguide.com/index.php?option=com_jem&view=event&id=3
 1482:the-brewtones-live&Itemid=1094\n
DTSTART:20240525T190000
DTEND:20240525T190000
LOCATION:Love\, Peace and Soul Live Cafe\,Parfum Kyodo B1-C 1-5-6 Kyodo\, S
 etagaya-ku\, Tokyo\,Kyodo
SUMMARY:The Brewtones
URL:https://www.tokyogigguide.com/index.php?option=com_jem&view=event&id=31
 482:the-brewtones-live&Itemid=1094
END:VEVENT
END:VCALENDAR
