BEGIN:VCALENDAR
VERSION:2.0
PRODID:-//104.152.168.27//NONSGML kigkonsult.se iCalcreator 2.20//
CALSCALE:GREGORIAN
METHOD:PUBLISH
X-WR-TIMEZONE:Asia/Tokyo
BEGIN:VEVENT
UID:event31474@Tokyo Gig Guide
DTSTAMP:20260425T173452Z
CATEGORIES:Electronic Rock\, Garage Rock\, Indie-Rock\, Rock
DESCRIPTION:Zoobombs\, M.J.Q\, KAI-NAMAHIRA\nカテゴリ: Electronic Rock\, Garage
  Rock\, Indie-Rock\, Rock\nリンク: https://www.tokyogigguide.com/index.php?op
 tion=com_jem&view=event&id=31474:zoobombs-m-j-q-kai-namahira&Itemid=1094\n
DTSTART:20240619T183000
DTEND:20240619T183000
LOCATION:TOP BEAT CLUB\,1-15-1\, Shimizu\, Suginami-ku\, Tokyo\,Ogikubo
SUMMARY:Zoobombs\, M.J.Q\, KAI-NAMAHIRA
URL:https://www.tokyogigguide.com/index.php?option=com_jem&view=event&id=31
 474:zoobombs-m-j-q-kai-namahira&Itemid=1094
END:VEVENT
END:VCALENDAR
