BEGIN:VCALENDAR
VERSION:2.0
PRODID:-//104.152.168.27//NONSGML kigkonsult.se iCalcreator 2.20//
CALSCALE:GREGORIAN
METHOD:PUBLISH
X-WR-TIMEZONE:Asia/Tokyo
BEGIN:VEVENT
UID:event31256@Tokyo Gig Guide
DTSTAMP:20260420T190145Z
CATEGORIES:Alternative\, Avant garde\, Experimental\, Improvised
DESCRIPTION:IKIRE\, yajika\, Tokyo Denpa Club\, Taiga mondo\, more\nカテゴリ: A
 lternative\, Avant garde\, Experimental\, Improvised\nリンク: https://www.tok
 yogigguide.com/index.php?option=com_jem&view=event&id=31256:new-superstiti
 on-in-arakawa-vol-3&Itemid=1094\n
DTSTART:20240521T170000
DTEND:20240521T170000
LOCATION:Apocalypse Now\,Arakawa 1-31-7\, Arakawa-ku\, Tokyo\,Minowa
SUMMARY:IKIRE\, yajika\, Tokyo Denpa Club\, Taiga mondo\, more
URL:https://www.tokyogigguide.com/index.php?option=com_jem&view=event&id=31
 256:new-superstition-in-arakawa-vol-3&Itemid=1094
END:VEVENT
END:VCALENDAR
