BEGIN:VCALENDAR
VERSION:2.0
PRODID:-//104.152.168.27//NONSGML kigkonsult.se iCalcreator 2.20//
CALSCALE:GREGORIAN
METHOD:PUBLISH
X-WR-TIMEZONE:Asia/Tokyo
BEGIN:VEVENT
UID:event31158@Tokyo Gig Guide
DTSTAMP:20260419T172125Z
CATEGORIES:Improvised
DESCRIPTION:Kuzuhara Ryo (Poetry Reading)\nカテゴリ: Improvised\nリンク: https://w
 ww.tokyogigguide.com/index.php?option=com_jem&view=event&id=31158:kuzuhara
 -ryo-poetry-reading-solo-live&Itemid=1094\n
DTSTART:20240530T170000
DTEND:20240530T170000
LOCATION:Apocalypse Now\,Arakawa 1-31-7\, Arakawa-ku\, Tokyo\,Minowa
SUMMARY:Kuzuhara Ryo (Poetry Reading)
URL:https://www.tokyogigguide.com/index.php?option=com_jem&view=event&id=31
 158:kuzuhara-ryo-poetry-reading-solo-live&Itemid=1094
END:VEVENT
END:VCALENDAR
