BEGIN:VCALENDAR
VERSION:2.0
PRODID:-//104.152.168.27//NONSGML kigkonsult.se iCalcreator 2.20//
CALSCALE:GREGORIAN
METHOD:PUBLISH
X-WR-TIMEZONE:Asia/Tokyo
BEGIN:VEVENT
UID:event31156@Tokyo Gig Guide
DTSTAMP:20260425T110105Z
CATEGORIES:Avant garde\, Dub\, Industrial\, Noise
DESCRIPTION:yajika\, Luneshevirikovsky\, Otodamakoubou\, kato Machiko\nカテゴリ
 : Avant garde\, Dub\, Industrial\, Noise\nリンク: https://www.tokyogigguide.c
 om/index.php?option=com_jem&view=event&id=31156:yajika-luneshevirikovsky-o
 todamakoubou-kato-machiko&Itemid=1094\n
DTSTART:20240508T170000
DTEND:20240508T170000
LOCATION:Apocalypse Now\,Arakawa 1-31-7\, Arakawa-ku\, Tokyo\,Minowa
SUMMARY:yajika\, Luneshevirikovsky\, Otodamakoubou\, kato Machiko
URL:https://www.tokyogigguide.com/index.php?option=com_jem&view=event&id=31
 156:yajika-luneshevirikovsky-otodamakoubou-kato-machiko&Itemid=1094
END:VEVENT
END:VCALENDAR
