BEGIN:VCALENDAR
VERSION:2.0
PRODID:-//104.152.168.27//NONSGML kigkonsult.se iCalcreator 2.20//
CALSCALE:GREGORIAN
METHOD:PUBLISH
X-WR-TIMEZONE:Asia/Tokyo
BEGIN:VEVENT
UID:event30930@Tokyo Gig Guide
DTSTAMP:20260423T022838Z
CATEGORIES:Alternative\, Party
DESCRIPTION:Okimiya Satsuki\nカテゴリ: Alternative\, Party\nリンク: https://www.to
 kyogigguide.com/index.php?option=com_jem&view=event&id=30930:okimiya-satsu
 ki-birthday-live&Itemid=1094\n
DTSTART:20240430T170000
DTEND:20240430T170000
LOCATION:Apocalypse Now\,Arakawa 1-31-7\, Arakawa-ku\, Tokyo\,Minowa
SUMMARY:Okimiya Satsuki
URL:https://www.tokyogigguide.com/index.php?option=com_jem&view=event&id=30
 930:okimiya-satsuki-birthday-live&Itemid=1094
END:VEVENT
END:VCALENDAR
