BEGIN:VCALENDAR
VERSION:2.0
PRODID:-//104.152.168.27//NONSGML kigkonsult.se iCalcreator 2.20//
CALSCALE:GREGORIAN
METHOD:PUBLISH
X-WR-TIMEZONE:Asia/Tokyo
BEGIN:VEVENT
UID:event30929@Tokyo Gig Guide
DTSTAMP:20260419T221927Z
CATEGORIES:Avant garde\, Experimental\, Improvised\, Industrial\, Performan
 ce
DESCRIPTION:Ikire\, MazrunaKiken\, PUNSUCA\, Life Reverse thrust\, Psychics
  Toda\, SHOICHI & Showta\, Paranoia Hanataro\, Noda Izaya\nカテゴリ: Avant gar
 de\, Experimental\, Improvised\, Industrial\, Performance\nリンク: https://ww
 w.tokyogigguide.com/index.php?option=com_jem&view=event&id=30929:ikire-maz
 ernakiken&Itemid=1094\n
DTSTART:20240416T170000
DTEND:20240416T170000
LOCATION:Apocalypse Now\,Arakawa 1-31-7\, Arakawa-ku\, Tokyo\,Minowa
SUMMARY:Ikire\, MazrunaKiken\, PUNSUCA\, Life Reverse thrust\, Psychics Tod
 a\, SHOICHI & Showta\, Paranoia Hanataro\, Noda Izaya
URL:https://www.tokyogigguide.com/index.php?option=com_jem&view=event&id=30
 929:ikire-mazernakiken&Itemid=1094
END:VEVENT
END:VCALENDAR
