BEGIN:VCALENDAR
VERSION:2.0
PRODID:-//104.152.168.27//NONSGML kigkonsult.se iCalcreator 2.20//
CALSCALE:GREGORIAN
METHOD:PUBLISH
X-WR-TIMEZONE:Asia/Tokyo
BEGIN:VEVENT
UID:event30847@Tokyo Gig Guide
DTSTAMP:20260420T032142Z
CATEGORIES:Open Mic\, Other
DESCRIPTION:Open Mic 15 min\nカテゴリ: Open Mic\, Other\nリンク: https://www.tokyo
 gigguide.com/index.php?option=com_jem&view=event&id=30847:open-mic-15min&I
 temid=1094\n
DTSTART:20240505T170000
DTEND:20240505T170000
LOCATION:Apocalypse Now\,Arakawa 1-31-7\, Arakawa-ku\, Tokyo\,Minowa
SUMMARY:Open Mic 15 min
URL:https://www.tokyogigguide.com/index.php?option=com_jem&view=event&id=30
 847:open-mic-15min&Itemid=1094
END:VEVENT
END:VCALENDAR
