BEGIN:VCALENDAR
VERSION:2.0
PRODID:-//104.152.168.27//NONSGML kigkonsult.se iCalcreator 2.20//
CALSCALE:GREGORIAN
METHOD:PUBLISH
X-WR-TIMEZONE:Asia/Tokyo
BEGIN:VEVENT
UID:event30706@Tokyo Gig Guide
DTSTAMP:20260424T054503Z
CATEGORIES:New Wave\, Post-Punk\, Punk\, Shoegaze
DESCRIPTION:Kidder\, CONGRATULATIONS\, Forbear\, Texas 3000\nカテゴリ: New Wave
 \, Post-Punk\, Punk\, Shoegaze\nリンク: https://www.tokyogigguide.com/index.p
 hp?option=com_jem&view=event&id=30706:kidder&Itemid=1094\n
DTSTART:20240407T163000
DTEND:20240407T163000
LOCATION:Daydream\,6F\, 1-1-4\, Minami-cho\, Kichijoji\, Musashino city\,Ki
 chijoji
SUMMARY:Kidder\, CONGRATULATIONS\, Forbear\, Texas 3000
URL:https://www.tokyogigguide.com/index.php?option=com_jem&view=event&id=30
 706:kidder&Itemid=1094
END:VEVENT
END:VCALENDAR
