BEGIN:VCALENDAR
VERSION:2.0
PRODID:-//104.152.168.27//NONSGML kigkonsult.se iCalcreator 2.20//
CALSCALE:GREGORIAN
METHOD:PUBLISH
X-WR-TIMEZONE:Asia/Tokyo
BEGIN:VEVENT
UID:event3060@Tokyo Gig Guide
DTSTAMP:20260420T103523Z
CATEGORIES:Experimental
DESCRIPTION:Wormhole\nカテゴリ: Experimental\nリンク: https://www.tokyogigguide.co
 m/index.php?option=com_jem&view=event&id=3060:wormhole&Itemid=1094\n
DTSTART:20100706T190000
DTEND:20100706T190000
LOCATION:Airegin\,5-60 Sumiyoshi-cho\, Naka-ku\, Yokohama\, Kanagawa\,Yokoh
 ama
SUMMARY:Wormhole
URL:https://www.tokyogigguide.com/index.php?option=com_jem&view=event&id=30
 60:wormhole&Itemid=1094
END:VEVENT
END:VCALENDAR
